BEGIN:VCALENDAR
VERSION:2.0
PRODID:-//Rosa Bianca Modena - ECPv6.8.2.1//NONSGML v1.0//EN
CALSCALE:GREGORIAN
METHOD:PUBLISH
X-ORIGINAL-URL:https://www.rosabiancamodena.it
X-WR-CALDESC:Eventi per Rosa Bianca Modena
REFRESH-INTERVAL;VALUE=DURATION:PT1H
X-Robots-Tag:noindex
X-PUBLISHED-TTL:PT1H
BEGIN:VTIMEZONE
TZID:Europe/Rome
BEGIN:DAYLIGHT
TZOFFSETFROM:+0100
TZOFFSETTO:+0200
TZNAME:CEST
DTSTART:20250330T010000
END:DAYLIGHT
BEGIN:STANDARD
TZOFFSETFROM:+0200
TZOFFSETTO:+0100
TZNAME:CET
DTSTART:20251026T010000
END:STANDARD
END:VTIMEZONE
BEGIN:VEVENT
DTSTART;TZID=Europe/Rome:20250508T203000
DTEND;TZID=Europe/Rome:20250508T230000
DTSTAMP:20260420T035515
CREATED:20250604T100944Z
LAST-MODIFIED:20250604T100946Z
UID:16648-1746736200-1746745200@www.rosabiancamodena.it
SUMMARY:Proiezione del Film “Precious”
DESCRIPTION:Proiezione del Film “Precious”Regia di Lee DanielsCon la partecipazione di: Valentina Carnevali Psicologa e Psicoterapeuta eMatteo Palmieri Psicologo e Psicoteraputa \n\n\n\nEvento 8 maggio PreciousDownload
URL:https://www.rosabiancamodena.it/evento/proiezione-del-film-precious/
ATTACH;FMTTYPE=image/jpeg:https://www.rosabiancamodena.it/wp-content/uploads/2025/06/Evento-8-maggio-Precious.jpg
END:VEVENT
BEGIN:VEVENT
DTSTART;TZID=Europe/Rome:20250515T203000
DTEND;TZID=Europe/Rome:20250515T233000
DTSTAMP:20260420T035515
CREATED:20250604T101059Z
LAST-MODIFIED:20250604T101626Z
UID:16651-1747341000-1747351800@www.rosabiancamodena.it
SUMMARY:Concerto Tributo a Fabrizio De Andrè
DESCRIPTION:Concerto Tributo a Fabrizio De AndrèA cura del Trio “Corde Cordiali” \n\n\n\nEvento 15 maggio Concerto tributo a Fabrizio Dè AndrèDownload
URL:https://www.rosabiancamodena.it/evento/concerto-tributo-a-fabrizio-de-andre/
ATTACH;FMTTYPE=image/jpeg:https://www.rosabiancamodena.it/wp-content/uploads/2025/06/Evento-15-maggio-Concerto-tr-ibuto-a-Fabrizio-De-Andre.jpg
END:VEVENT
BEGIN:VEVENT
DTSTART;TZID=Europe/Rome:20250522T203000
DTEND;TZID=Europe/Rome:20250522T230000
DTSTAMP:20260420T035515
CREATED:20250604T101247Z
LAST-MODIFIED:20250604T101249Z
UID:16654-1747945800-1747954800@www.rosabiancamodena.it
SUMMARY:Proiezione del film "Moonlight"
DESCRIPTION:Proiezione del film “Moonlight”Con la partecipazione di Paolo Vistoli Psichiatra eStudenti del Gruppo di lavoro “Equality Week” \n\n\n\nEvento 22 maggio MoonlightDownload
URL:https://www.rosabiancamodena.it/evento/proiezione-del-film-moonlight/
ATTACH;FMTTYPE=image/jpeg:https://www.rosabiancamodena.it/wp-content/uploads/2025/06/Evento-22-maggio-Moonlight_page-0001.jpg
END:VEVENT
END:VCALENDAR