BEGIN:VCALENDAR
VERSION:2.0
PRODID:-//Rosa Bianca Modena - ECPv6.8.2.1//NONSGML v1.0//EN
CALSCALE:GREGORIAN
METHOD:PUBLISH
X-ORIGINAL-URL:https://www.rosabiancamodena.it
X-WR-CALDESC:Eventi per Rosa Bianca Modena
REFRESH-INTERVAL;VALUE=DURATION:PT1H
X-Robots-Tag:noindex
X-PUBLISHED-TTL:PT1H
BEGIN:VTIMEZONE
TZID:Europe/Rome
BEGIN:DAYLIGHT
TZOFFSETFROM:+0100
TZOFFSETTO:+0200
TZNAME:CEST
DTSTART:20240331T010000
END:DAYLIGHT
BEGIN:STANDARD
TZOFFSETFROM:+0200
TZOFFSETTO:+0100
TZNAME:CET
DTSTART:20241027T010000
END:STANDARD
END:VTIMEZONE
BEGIN:VEVENT
DTSTART;VALUE=DATE:20241003
DTEND;VALUE=DATE:20241004
DTSTAMP:20260420T171106
CREATED:20241106T220343Z
LAST-MODIFIED:20241106T220343Z
UID:16503-1727913600-1727999999@www.rosabiancamodena.it
SUMMARY:“La forma dell’acqua”
DESCRIPTION:Rosa Bianca in collaborazione con UNIMORE\nProiezione del Film “La forma dell’acqua”\nTeatro Tenda
URL:https://www.rosabiancamodena.it/evento/la-forma-dellacqua/
ATTACH;FMTTYPE=image/jpeg:https://www.rosabiancamodena.it/wp-content/uploads/2024/11/locandina-cineforum-3-ottobre-2024_page-0001.jpg
END:VEVENT
BEGIN:VEVENT
DTSTART;VALUE=DATE:20241010
DTEND;VALUE=DATE:20241011
DTSTAMP:20260420T171106
CREATED:20241106T222833Z
LAST-MODIFIED:20241106T222833Z
UID:16506-1728518400-1728604799@www.rosabiancamodena.it
SUMMARY:“La Vergogna”
DESCRIPTION:Presentazione del Video “La Vergogna”Di Psicantria\nCon la partecipazione anche del Coro Rosa Bianca
URL:https://www.rosabiancamodena.it/evento/la-vergogna/
ATTACH;FMTTYPE=image/jpeg:https://www.rosabiancamodena.it/wp-content/uploads/2024/11/Locandina-10-ottobre-Psicantria.jpg
END:VEVENT
BEGIN:VEVENT
DTSTART;VALUE=DATE:20241029
DTEND;VALUE=DATE:20241030
DTSTAMP:20260420T171106
CREATED:20241106T220234Z
LAST-MODIFIED:20241126T153935Z
UID:16501-1730160000-1730246399@www.rosabiancamodena.it
SUMMARY:Voci nei Chiostri “Note in amicizia”
DESCRIPTION:Voci nei Chiostri\n“Note in amicizia”\nConcerto Rosa Bianca e Coro San Lazzaro\nParrocchia Regina Pacis\nMettere Locandina e foto
URL:https://www.rosabiancamodena.it/evento/voci-nei-chiostri-note-in-amicizia/
ATTACH;FMTTYPE=image/jpeg:https://www.rosabiancamodena.it/wp-content/uploads/2024/11/rosa-bianca-locandina-concerto-voci-nei-chiostri-2024.jpg
END:VEVENT
END:VCALENDAR