BEGIN:VCALENDAR
VERSION:2.0
PRODID:-//Rosa Bianca Modena - ECPv6.8.2.1//NONSGML v1.0//EN
CALSCALE:GREGORIAN
METHOD:PUBLISH
X-WR-CALNAME:Rosa Bianca Modena
X-ORIGINAL-URL:https://www.rosabiancamodena.it
X-WR-CALDESC:Eventi per Rosa Bianca Modena
REFRESH-INTERVAL;VALUE=DURATION:PT1H
X-Robots-Tag:noindex
X-PUBLISHED-TTL:PT1H
BEGIN:VTIMEZONE
TZID:Europe/Rome
BEGIN:DAYLIGHT
TZOFFSETFROM:+0100
TZOFFSETTO:+0200
TZNAME:CEST
DTSTART:20230326T010000
END:DAYLIGHT
BEGIN:STANDARD
TZOFFSETFROM:+0200
TZOFFSETTO:+0100
TZNAME:CET
DTSTART:20231029T010000
END:STANDARD
END:VTIMEZONE
BEGIN:VEVENT
DTSTART;TZID=Europe/Rome:20230311T080000
DTEND;TZID=Europe/Rome:20231218T233000
DTSTAMP:20260425T152559
CREATED:20241106T213026Z
LAST-MODIFIED:20241106T213026Z
UID:16445-1678521600-1702942200@www.rosabiancamodena.it
SUMMARY:Ricominciata l’attività del Coro Rosa Bianca
DESCRIPTION:Ricominciata l’attività del Coro Rosa Bianca Presso la parrocchia Regina Pacis che ci ha ospitato in sicurezza nella loro tensostruttura all’aperto e nel salone
URL:https://www.rosabiancamodena.it/evento/ricominciata-lattivita-del-coro-rosa-bianca/
ATTACH;FMTTYPE=image/jpeg:https://www.rosabiancamodena.it/wp-content/uploads/2024/01/Pieghevole-progetto-iesa_DEF_page-0001.jpg
END:VEVENT
BEGIN:VEVENT
DTSTART;TZID=Europe/Rome:20230915T080000
DTEND;TZID=Europe/Rome:20230917T233000
DTSTAMP:20260425T152559
CREATED:20241106T212413Z
LAST-MODIFIED:20241106T212413Z
UID:16435-1694764800-1694993400@www.rosabiancamodena.it
SUMMARY:Festival della Filosofia
DESCRIPTION:Rosa Bianca ha partecipato al Festival della Filosofia\, con il CSV ha collaborato attivamente ad un laboratorio con installazioni artistiche\, “lavagna vivente”\nLa Parola che prende corpo\, le parole che curano\, parole che ammalano\, parole che salviamo.\nPiazza Matteotti
URL:https://www.rosabiancamodena.it/evento/festival-della-filosofia/
END:VEVENT
BEGIN:VEVENT
DTSTART;VALUE=DATE:20230922
DTEND;VALUE=DATE:20230923
DTSTAMP:20260425T152559
CREATED:20241106T212252Z
LAST-MODIFIED:20241106T212252Z
UID:16433-1695340800-1695427199@www.rosabiancamodena.it
SUMMARY:Giornata Provinciale per l’inclusione dei Bisogni Educativi Speciali
DESCRIPTION:Il Coro di Rosa Bianca ha partecipato alla Giornata Provinciale per l’inclusione dei Bisogni Educativi Speciali insieme al Coro di UNIMORE e l’Orchestra “Ologramma”\nTeatro Parrocchia Gesù Redentore
URL:https://www.rosabiancamodena.it/evento/giornata-provinciale-per-linclusione-dei-bisogni-educativi-speciali/
ATTACH;FMTTYPE=image/jpeg:https://www.rosabiancamodena.it/wp-content/uploads/2024/01/Inclusione-22settembre-jpg.jpg
END:VEVENT
END:VCALENDAR