BEGIN:VCALENDAR
VERSION:2.0
PRODID:-//Rosa Bianca Modena - ECPv6.8.2.1//NONSGML v1.0//EN
CALSCALE:GREGORIAN
METHOD:PUBLISH
X-WR-CALNAME:Rosa Bianca Modena
X-ORIGINAL-URL:https://www.rosabiancamodena.it
X-WR-CALDESC:Eventi per Rosa Bianca Modena
REFRESH-INTERVAL;VALUE=DURATION:PT1H
X-Robots-Tag:noindex
X-PUBLISHED-TTL:PT1H
BEGIN:VTIMEZONE
TZID:Europe/Rome
BEGIN:DAYLIGHT
TZOFFSETFROM:+0100
TZOFFSETTO:+0200
TZNAME:CEST
DTSTART:20250330T010000
END:DAYLIGHT
BEGIN:STANDARD
TZOFFSETFROM:+0200
TZOFFSETTO:+0100
TZNAME:CET
DTSTART:20251026T010000
END:STANDARD
BEGIN:DAYLIGHT
TZOFFSETFROM:+0100
TZOFFSETTO:+0200
TZNAME:CEST
DTSTART:20260329T010000
END:DAYLIGHT
BEGIN:STANDARD
TZOFFSETFROM:+0200
TZOFFSETTO:+0100
TZNAME:CET
DTSTART:20261025T010000
END:STANDARD
END:VTIMEZONE
BEGIN:VEVENT
DTSTART;TZID=Europe/Rome:20251106T203000
DTEND;TZID=Europe/Rome:20251106T203000
DTSTAMP:20260419T200701
CREATED:20251103T135013Z
LAST-MODIFIED:20251103T135014Z
UID:16679-1762461000-1762461000@www.rosabiancamodena.it
SUMMARY:Rassegna Cinematografica Follia e dintorni
DESCRIPTION:Rassegna Cinematografica Follia e dintorniRosa Bianca ODV in collaborazione con UnimoreTeatro Tenda dal 06 novembre al 27 novembre ingresso libero e gratuito \n\n\n\nIl filo conduttore di quest’anno è: “il mondo del domestico\, il sentirsi a casa”. La casa “immaginata” del passato della propria famiglia\, l’appartamento violato mentre è lasciato vuoto da altri\, la casa in una petroliera dismessa e la casa dove degli specialisti vorrebbero indagare le ragioni della solitudine.Il cineforum\, come nelle precedenti edizioni\, persegue l’obiettivo di aprire una discussione tra tutte le persone intervenute lasciando al termine del film la possibilità di esprimere un proprio contributo di riflessione e approfondimento. \n\n\n\nLocandina Rassegna Cinematografica Follia e dintorniDownload
URL:https://www.rosabiancamodena.it/evento/rassegna-cinematografica-follia-e-dintorni-2/
ATTACH;FMTTYPE=image/jpeg:https://www.rosabiancamodena.it/wp-content/uploads/2025/11/ROSA-B1.jpg
END:VEVENT
BEGIN:VEVENT
DTSTART;TZID=Europe/Rome:20260218T203000
DTEND;TZID=Europe/Rome:20260218T233000
DTSTAMP:20260419T200701
CREATED:20260331T213852Z
LAST-MODIFIED:20260331T213914Z
UID:16688-1771446600-1771457400@www.rosabiancamodena.it
SUMMARY:Cineforum febbraio - aprile 2026
DESCRIPTION:UNIMORE in collaborazione con ROSA BIANCA ODV ha organizzato un Cineforum febbraio – aprile 2026 \n\n\n\nDiversamente Uniti – La solitudine: rifugio o prigione? \n\n\n\nLe proiezioni sono gratuite e aperte alla cittadinanza. \n\n\n\nTeatro Tenda ore 20\,30
URL:https://www.rosabiancamodena.it/evento/cineforum-febbraio-aprile-2026/
ATTACH;FMTTYPE=image/jpeg:https://www.rosabiancamodena.it/wp-content/uploads/2026/03/cineforum-febbraio-2026-2_page-0001.jpg
END:VEVENT
BEGIN:VEVENT
DTSTART;TZID=Europe/Rome:20260408T203000
DTEND;TZID=Europe/Rome:20260408T233000
DTSTAMP:20260419T200702
CREATED:20260331T214109Z
LAST-MODIFIED:20260331T214111Z
UID:16691-1775680200-1775691000@www.rosabiancamodena.it
SUMMARY:UNA TENDA DA MATTI. UNA SERATA DI TEATRO PARTECIPATO
DESCRIPTION:Una non Commedia scritta e diretta da Lillo Venezia intitolata BIANCO SCURO dove racconta la convivenza di quattro coinquilini con le proprie inquietudini\, esplorando l’inevitabile disordine dell’animo umano\, le crepe esistenziali e la bellezza nascosta dell’inadeguatezza.I rituali quotidiani dei protagonisti sono amplificati dalla presenza del Coro di Rosa Bianca.
URL:https://www.rosabiancamodena.it/evento/una-tenda-da-matti-una-serata-di-teatro-partecipato/
ATTACH;FMTTYPE=image/jpeg:https://www.rosabiancamodena.it/wp-content/uploads/2026/03/Bianco-Scuro-Locandina-Light-Fondazione.jpg
END:VEVENT
END:VCALENDAR