BEGIN:VCALENDAR
VERSION:2.0
PRODID:-//Rosa Bianca Modena - ECPv6.8.2.1//NONSGML v1.0//EN
CALSCALE:GREGORIAN
METHOD:PUBLISH
X-WR-CALNAME:Rosa Bianca Modena
X-ORIGINAL-URL:https://www.rosabiancamodena.it
X-WR-CALDESC:Eventi per Rosa Bianca Modena
REFRESH-INTERVAL;VALUE=DURATION:PT1H
X-Robots-Tag:noindex
X-PUBLISHED-TTL:PT1H
BEGIN:VTIMEZONE
TZID:Europe/Rome
BEGIN:DAYLIGHT
TZOFFSETFROM:+0100
TZOFFSETTO:+0200
TZNAME:CEST
DTSTART:20250330T010000
END:DAYLIGHT
BEGIN:STANDARD
TZOFFSETFROM:+0200
TZOFFSETTO:+0100
TZNAME:CET
DTSTART:20251026T010000
END:STANDARD
END:VTIMEZONE
BEGIN:VEVENT
DTSTART;TZID=Europe/Rome:20251001T203000
DTEND;TZID=Europe/Rome:20251001T203000
DTSTAMP:20260419T212615
CREATED:20251103T134639Z
LAST-MODIFIED:20251103T134640Z
UID:16675-1759350600-1759350600@www.rosabiancamodena.it
SUMMARY:Settimana Equality Week
DESCRIPTION:Settimana Equality WeekUNIMORE in collaborazione con Rosa Bianca ODVProiezione del Film “Ugualmente Diversi”Regista Federika PonnettiTeatro TendaFederika Ponnetti regista del filmDott.ssa Francesca Villanti Psichiatra
URL:https://www.rosabiancamodena.it/evento/settimana-equality-week/
ATTACH;FMTTYPE=image/jpeg:https://www.rosabiancamodena.it/wp-content/uploads/2025/11/CINEFO1.jpg
END:VEVENT
END:VCALENDAR