BEGIN:VCALENDAR
VERSION:2.0
PRODID:-//Rosa Bianca Modena - ECPv6.8.2.1//NONSGML v1.0//EN
CALSCALE:GREGORIAN
METHOD:PUBLISH
X-ORIGINAL-URL:https://www.rosabiancamodena.it
X-WR-CALDESC:Eventi per Rosa Bianca Modena
REFRESH-INTERVAL;VALUE=DURATION:PT1H
X-Robots-Tag:noindex
X-PUBLISHED-TTL:PT1H
BEGIN:VTIMEZONE
TZID:Europe/Rome
BEGIN:DAYLIGHT
TZOFFSETFROM:+0100
TZOFFSETTO:+0200
TZNAME:CEST
DTSTART:20250330T010000
END:DAYLIGHT
BEGIN:STANDARD
TZOFFSETFROM:+0200
TZOFFSETTO:+0100
TZNAME:CET
DTSTART:20251026T010000
END:STANDARD
END:VTIMEZONE
BEGIN:VEVENT
DTSTART;TZID=Europe/Rome:20250921T170000
DTEND;TZID=Europe/Rome:20250921T170000
DTSTAMP:20260419T225733
CREATED:20251103T134226Z
LAST-MODIFIED:20251103T134228Z
UID:16671-1758474000-1758474000@www.rosabiancamodena.it
SUMMARY:Festival Voce nei Chiostri AERCO
DESCRIPTION:Festival Voce nei Chiostri AERCOConcerto Cantiamo la PaceCoro Rosa Bianca e Coro I Colori delle noteParrocchia Regina Pacis
URL:https://www.rosabiancamodena.it/evento/festival-voce-nei-chiostri-aerco/
ATTACH;FMTTYPE=image/jpeg:https://www.rosabiancamodena.it/wp-content/uploads/2025/11/ESEC211.jpg
END:VEVENT
END:VCALENDAR