BEGIN:VCALENDAR
VERSION:2.0
PRODID:-//Rosa Bianca Modena - ECPv6.8.2.1//NONSGML v1.0//EN
CALSCALE:GREGORIAN
METHOD:PUBLISH
X-ORIGINAL-URL:https://www.rosabiancamodena.it
X-WR-CALDESC:Eventi per Rosa Bianca Modena
REFRESH-INTERVAL;VALUE=DURATION:PT1H
X-Robots-Tag:noindex
X-PUBLISHED-TTL:PT1H
BEGIN:VTIMEZONE
TZID:Europe/Rome
BEGIN:DAYLIGHT
TZOFFSETFROM:+0100
TZOFFSETTO:+0200
TZNAME:CEST
DTSTART:20250330T010000
END:DAYLIGHT
BEGIN:STANDARD
TZOFFSETFROM:+0200
TZOFFSETTO:+0100
TZNAME:CET
DTSTART:20251026T010000
END:STANDARD
END:VTIMEZONE
BEGIN:VEVENT
DTSTART;TZID=Europe/Rome:20250416T203000
DTEND;TZID=Europe/Rome:20250416T230000
DTSTAMP:20260420T072328
CREATED:20250604T100619Z
LAST-MODIFIED:20250604T100621Z
UID:16640-1744835400-1744844400@www.rosabiancamodena.it
SUMMARY:Proiezione del film “L’Immensità”
DESCRIPTION:Proiezione del film “L’Immensità” del regista Emanuele Crialese \n\n\n\nCon la partecipazione di Laura FruggeriProfessoressa Ordinaria di Psicologia Sociale all’Università diParma\, Direttrice della Scuola di Specializzazione In Psicoterapia Familiare di Bologna \n\n\n\nLocandina 16 aprileDownload
URL:https://www.rosabiancamodena.it/evento/proiezione-del-film-limmensita/
ATTACH;FMTTYPE=image/jpeg:https://www.rosabiancamodena.it/wp-content/uploads/2025/06/Locandina16aprile-1-1.jpg
END:VEVENT
END:VCALENDAR