BEGIN:VCALENDAR
VERSION:2.0
PRODID:-//Rosa Bianca Modena - ECPv6.8.2.1//NONSGML v1.0//EN
CALSCALE:GREGORIAN
METHOD:PUBLISH
X-ORIGINAL-URL:https://www.rosabiancamodena.it
X-WR-CALDESC:Eventi per Rosa Bianca Modena
REFRESH-INTERVAL;VALUE=DURATION:PT1H
X-Robots-Tag:noindex
X-PUBLISHED-TTL:PT1H
BEGIN:VTIMEZONE
TZID:Europe/Rome
BEGIN:DAYLIGHT
TZOFFSETFROM:+0100
TZOFFSETTO:+0200
TZNAME:CEST
DTSTART:20240331T010000
END:DAYLIGHT
BEGIN:STANDARD
TZOFFSETFROM:+0200
TZOFFSETTO:+0100
TZNAME:CET
DTSTART:20241027T010000
END:STANDARD
END:VTIMEZONE
BEGIN:VEVENT
DTSTART;TZID=Europe/Rome:20241204T203000
DTEND;TZID=Europe/Rome:20241204T233000
DTSTAMP:20260420T151205
CREATED:20241112T142956Z
LAST-MODIFIED:20241118T203918Z
UID:16530-1733344200-1733355000@www.rosabiancamodena.it
SUMMARY:Presentazione del Video "12 ANNI MATTI"
DESCRIPTION:Teatro Tenda presentazione del Video “12 ANNI MATTI” con la regia di Lillo Venezia\, storie e canzoni di un’accoglienza speciale. \n\n\n\nGuarda il trailer \n\n\n\n\n\n\n\n  \n\n\n\n 
URL:https://www.rosabiancamodena.it/evento/presentazione-del-video-12-anni-matti/
LOCATION:Teatro Tenda
ATTACH;FMTTYPE=image/png:https://www.rosabiancamodena.it/wp-content/uploads/2024/11/Volantino-definitivo-evento-4-dicembre-2024.png
END:VEVENT
END:VCALENDAR