BEGIN:VCALENDAR
VERSION:2.0
PRODID:-//Rosa Bianca Modena - ECPv6.8.2.1//NONSGML v1.0//EN
CALSCALE:GREGORIAN
METHOD:PUBLISH
X-WR-CALNAME:Rosa Bianca Modena
X-ORIGINAL-URL:https://www.rosabiancamodena.it
X-WR-CALDESC:Eventi per Rosa Bianca Modena
REFRESH-INTERVAL;VALUE=DURATION:PT1H
X-Robots-Tag:noindex
X-PUBLISHED-TTL:PT1H
BEGIN:VTIMEZONE
TZID:Europe/Rome
BEGIN:DAYLIGHT
TZOFFSETFROM:+0100
TZOFFSETTO:+0200
TZNAME:CEST
DTSTART:20230326T010000
END:DAYLIGHT
BEGIN:STANDARD
TZOFFSETFROM:+0200
TZOFFSETTO:+0100
TZNAME:CET
DTSTART:20231029T010000
END:STANDARD
END:VTIMEZONE
BEGIN:VEVENT
DTSTART;TZID=Europe/Rome:20230311T080000
DTEND;TZID=Europe/Rome:20231218T233000
DTSTAMP:20260421T231240
CREATED:20241106T213026Z
LAST-MODIFIED:20241106T213026Z
UID:16445-1678521600-1702942200@www.rosabiancamodena.it
SUMMARY:Ricominciata l’attività del Coro Rosa Bianca
DESCRIPTION:Ricominciata l’attività del Coro Rosa Bianca Presso la parrocchia Regina Pacis che ci ha ospitato in sicurezza nella loro tensostruttura all’aperto e nel salone
URL:https://www.rosabiancamodena.it/evento/ricominciata-lattivita-del-coro-rosa-bianca/
ATTACH;FMTTYPE=image/jpeg:https://www.rosabiancamodena.it/wp-content/uploads/2024/01/Pieghevole-progetto-iesa_DEF_page-0001.jpg
END:VEVENT
BEGIN:VEVENT
DTSTART;TZID=Europe/Rome:20231106T080000
DTEND;TZID=Europe/Rome:20231130T233000
DTSTAMP:20260421T231240
CREATED:20241106T211133Z
LAST-MODIFIED:20241106T212016Z
UID:16426-1699257600-1701387000@www.rosabiancamodena.it
SUMMARY:Rassegna Cinematografica “Follia e Dintorni”
DESCRIPTION:Rassegna Cinematografica “Follia e Dintorni”\nTeatro Tenda
URL:https://www.rosabiancamodena.it/evento/rassegna-cinematografica-follia-e-dintorni/
LOCATION:Teatro Tenda
ATTACH;FMTTYPE=image/jpeg:https://www.rosabiancamodena.it/wp-content/uploads/2024/01/Cineforum-Rosa-Bianca.jpg
END:VEVENT
END:VCALENDAR